BEGIN:VCALENDAR
VERSION:2.0
PRODID:-//Anastasia Mosquito Control - ECPv6.15.20//NONSGML v1.0//EN
CALSCALE:GREGORIAN
METHOD:PUBLISH
X-ORIGINAL-URL:https://diseasevectoreducationcenter.org
X-WR-CALDESC:Events for Anastasia Mosquito Control
REFRESH-INTERVAL;VALUE=DURATION:PT1H
X-Robots-Tag:noindex
X-PUBLISHED-TTL:PT1H
BEGIN:VTIMEZONE
TZID:UTC
BEGIN:STANDARD
TZOFFSETFROM:+0000
TZOFFSETTO:+0000
TZNAME:UTC
DTSTART:20240101T000000
END:STANDARD
END:VTIMEZONE
BEGIN:VEVENT
DTSTART;TZID=UTC:20251105T110000
DTEND;TZID=UTC:20251108T113000
DTSTAMP:20260420T084721
CREATED:20251103T221255Z
LAST-MODIFIED:20251103T223821Z
UID:10003531-1762340400-1762601400@diseasevectoreducationcenter.org
SUMMARY:Crazy Science – Apple Orchard Allies
DESCRIPTION:Crazy Science – Apple Orchard Allies\nThis week’s Crazy Science explores how beneficial insects protect our crops! 🐞Discover how ladybugs\, lacewings\, and parasitic wasps act as natural pest control in apple orchards. Then dive into our Fizzy Apple Volcano experiment to simulate natural reactions in a fun\, hands-on way! \n📅 November 5th–8th\, 2025⏰ 11 AM📍 Disease Vector Education Center – St. Augustine\, FL \nFun Fact: A single ladybug can eat up to 5\,000 aphids in its lifetime!
URL:https://diseasevectoreducationcenter.org/event/crazy-science-apple-orchard-allies/
CATEGORIES:Crazy Science,Updates
ATTACH;FMTTYPE=image/png:https://diseasevectoreducationcenter.org/wp-content/uploads/2025/11/Nov-5-8.png
END:VEVENT
END:VCALENDAR