BEGIN:VCALENDAR
VERSION:2.0
PRODID:-//Anastasia Mosquito Control - ECPv6.15.20//NONSGML v1.0//EN
CALSCALE:GREGORIAN
METHOD:PUBLISH
X-ORIGINAL-URL:https://diseasevectoreducationcenter.org
X-WR-CALDESC:Events for Anastasia Mosquito Control
REFRESH-INTERVAL;VALUE=DURATION:PT1H
X-Robots-Tag:noindex
X-PUBLISHED-TTL:PT1H
BEGIN:VTIMEZONE
TZID:UTC
BEGIN:STANDARD
TZOFFSETFROM:+0000
TZOFFSETTO:+0000
TZNAME:UTC
DTSTART:20240101T000000
END:STANDARD
END:VTIMEZONE
BEGIN:VEVENT
DTSTART;TZID=UTC:20250730T080000
DTEND;TZID=UTC:20250831T170000
DTSTAMP:20260419T120637
CREATED:20250728T162917Z
LAST-MODIFIED:20250728T162917Z
UID:10001104-1753862400-1756659600@diseasevectoreducationcenter.org
SUMMARY:Upcoming Events August 2025
DESCRIPTION:Hi everyone! \n\n\n🎉 The DVEC has an exciting lineup of events for August 2025—don’t forget to check out our Upcoming Events Calendar to see what’s coming up! \n\n📅 August 20th is World Mosquito Day\, a time to raise awareness about the role mosquitoes play in public health and how the tiny insect changed history. Stay tuned for fun\, facts\, and hands-on learning you won’t want to miss! \n\nFeel free to share the calendar with friends and family!
URL:https://diseasevectoreducationcenter.org/event/upcoming-events-august-2025/
CATEGORIES:Crazy Science,Sunday Funday,Updates
ATTACH;FMTTYPE=image/png:https://diseasevectoreducationcenter.org/wp-content/uploads/2025/07/Upcoming-August-Events.png
END:VEVENT
BEGIN:VEVENT
DTSTART;TZID=UTC:20250810T103000
DTEND;TZID=UTC:20250810T153000
DTSTAMP:20260419T120637
CREATED:20250807T133723Z
LAST-MODIFIED:20250807T133723Z
UID:10001107-1754821800-1754839800@diseasevectoreducationcenter.org
SUMMARY:Wing It
DESCRIPTION:✨Sunday Funday is ready for takeoff—let’s Wing It! \nJoin us on Sunday as we craft gliders inspired by butterflies\, dragonflies\, moths\, and other flying insects we will learn about in Crazy Science this week! \nThis fun craft is perfect for all ages! \nWe will have take-home goodie bag with supplies and instructions for those visiting during activity break time. Don’t forget to ask for one! \n📅 August 10th\, 2025\n⏰ 10:30 AM – 12 PM\n2 PM – 3:30 PM\n📍 Disease Vector Education Center – St. Augustine\, FL \nLet your creativity soar and show us how you wing it!
URL:https://diseasevectoreducationcenter.org/event/wing-it/
CATEGORIES:Sunday Funday
ATTACH;FMTTYPE=image/png:https://diseasevectoreducationcenter.org/wp-content/uploads/2025/08/Wing-It-1.png
END:VEVENT
END:VCALENDAR