BEGIN:VCALENDAR
VERSION:2.0
PRODID:-//Anastasia Mosquito Control - ECPv6.15.20//NONSGML v1.0//EN
CALSCALE:GREGORIAN
METHOD:PUBLISH
X-ORIGINAL-URL:https://diseasevectoreducationcenter.org
X-WR-CALDESC:Events for Anastasia Mosquito Control
REFRESH-INTERVAL;VALUE=DURATION:PT1H
X-Robots-Tag:noindex
X-PUBLISHED-TTL:PT1H
BEGIN:VTIMEZONE
TZID:UTC
BEGIN:STANDARD
TZOFFSETFROM:+0000
TZOFFSETTO:+0000
TZNAME:UTC
DTSTART:20240101T000000
END:STANDARD
END:VTIMEZONE
BEGIN:VEVENT
DTSTART;TZID=UTC:20250901T080000
DTEND;TZID=UTC:20250930T170000
DTSTAMP:20260423T102348
CREATED:20250831T135828Z
LAST-MODIFIED:20250831T135828Z
UID:10003509-1756713600-1759251600@diseasevectoreducationcenter.org
SUMMARY:Upcoming Events
DESCRIPTION:Hi everyone!\n\n\n\n The DVEC has an exciting lineup of events for September 2025—don’t forget to check out our Upcoming Events Calendar to see what’s coming up!\n\n\n\nStay tuned for fun\, facts\, and hands-on learning you won’t want to miss!\n\n\n\nFeel free to share the calendar with friends and family\, and let us know in the comments what you’re most looking forward to!
URL:https://diseasevectoreducationcenter.org/event/upcoming-events/
CATEGORIES:Crazy Science,Sunday Funday,Updates
ATTACH;FMTTYPE=image/png:https://diseasevectoreducationcenter.org/wp-content/uploads/2025/08/Upcoming-Events-September-2025-1.png
END:VEVENT
BEGIN:VEVENT
DTSTART;TZID=UTC:20250921T100000
DTEND;TZID=UTC:20250921T153000
DTSTAMP:20260423T102348
CREATED:20250916T130618Z
LAST-MODIFIED:20250916T130702Z
UID:10003515-1758448800-1758468600@diseasevectoreducationcenter.org
SUMMARY:Bugs in Clay
DESCRIPTION:🪨 Sunday Funday – Bugs in Clay \nStep back in time and explore the world of ancient life! \nJoin us for Bugs in Clay\, where you’ll paint your own clay fossil imprints and take home a piece of prehistory. 🦋 Perfect for budding paleontologists and creative explorers of all ages. \n💡 Fun Fact: Some of the oldest insect fossils date back over 400 million years\, offering scientists a window into early ecosystems and how bugs helped shape our planet’s history. \n📅 September 21st\, 2025 \n⏰ 10:30 AM – 12 PM \n  2 PM – 3:30 PM \n📍 Disease Vector Education Center – St. Augustine\, FL \nDig into creativity and history—drop your favorite prehistoric emoji if you’re ready to make your own fossil art!
URL:https://diseasevectoreducationcenter.org/event/bugs-in-clay/
CATEGORIES:Sunday Funday,Updates
ATTACH;FMTTYPE=image/png:https://diseasevectoreducationcenter.org/wp-content/uploads/2025/09/Bugs-In-Clay.png
END:VEVENT
END:VCALENDAR